BEGIN:VCALENDAR
VERSION:2.0
PRODID:-//MDS - ECPv4.2.7//NONSGML v1.0//EN
CALSCALE:GREGORIAN
METHOD:PUBLISH
X-WR-CALNAME:MDS
X-ORIGINAL-URL:https://mississaugadentalstudio.com
X-WR-CALDESC:Events for MDS
BEGIN:VEVENT
DTSTART;TZID=America/Toronto:20121213T183000
DTEND;TZID=America/Toronto:20121213T200000
DTSTAMP:20260423T155853
CREATED:20150920T213553
LAST-MODIFIED:20151009T194245
UID:3390-1355423400-1355428800@mississaugadentalstudio.com
SUMMARY:The ITero Digital Impression System
DESCRIPTION:The Only Digital Impression System That...\n\n\tHas a record of proven success with over 260\,000 cases and 500\,000 restorations completed\n\tSupports an active community of over 1\,700 dentists in 21 countries and over 1\,200 dental laboratories\n\tIs utilized in 22 Dental Schools and Universities\n\tAllows for the fabrication of all types of dental restorations including fixture level implant impressions\n\tFacilitates "real-time" review and self-correction of tooth preparations\n
URL:https://mississaugadentalstudio.com/event/the-itero-digital-impression-system/
LOCATION:1020 Johnsons Lane\, Mississauga\, Ontario\, L5J 2P7\, Canada
CATEGORIES:M.D.S Events
END:VEVENT
END:VCALENDAR